BEGIN:VCALENDAR
VERSION:2.0
PRODID:-//Gullivigne - ECPv6.15.20//NONSGML v1.0//EN
CALSCALE:GREGORIAN
METHOD:PUBLISH
X-WR-CALNAME:Gullivigne
X-ORIGINAL-URL:https://gullivigne.org
X-WR-CALDESC:Évènements pour Gullivigne
REFRESH-INTERVAL;VALUE=DURATION:PT1H
X-Robots-Tag:noindex
X-PUBLISHED-TTL:PT1H
BEGIN:VTIMEZONE
TZID:Europe/Paris
BEGIN:DAYLIGHT
TZOFFSETFROM:+0100
TZOFFSETTO:+0200
TZNAME:CEST
DTSTART:20200329T010000
END:DAYLIGHT
BEGIN:STANDARD
TZOFFSETFROM:+0200
TZOFFSETTO:+0100
TZNAME:CET
DTSTART:20201025T010000
END:STANDARD
BEGIN:DAYLIGHT
TZOFFSETFROM:+0100
TZOFFSETTO:+0200
TZNAME:CEST
DTSTART:20210328T010000
END:DAYLIGHT
BEGIN:STANDARD
TZOFFSETFROM:+0200
TZOFFSETTO:+0100
TZNAME:CET
DTSTART:20211031T010000
END:STANDARD
BEGIN:DAYLIGHT
TZOFFSETFROM:+0100
TZOFFSETTO:+0200
TZNAME:CEST
DTSTART:20220327T010000
END:DAYLIGHT
BEGIN:STANDARD
TZOFFSETFROM:+0200
TZOFFSETTO:+0100
TZNAME:CET
DTSTART:20221030T010000
END:STANDARD
BEGIN:DAYLIGHT
TZOFFSETFROM:+0100
TZOFFSETTO:+0200
TZNAME:CEST
DTSTART:20230326T010000
END:DAYLIGHT
BEGIN:STANDARD
TZOFFSETFROM:+0200
TZOFFSETTO:+0100
TZNAME:CET
DTSTART:20231029T010000
END:STANDARD
END:VTIMEZONE
BEGIN:VEVENT
DTSTART;TZID=Europe/Paris:20220226T140000
DTEND;TZID=Europe/Paris:20220226T173000
DTSTAMP:20260421T190028
CREATED:20220223T093535Z
LAST-MODIFIED:20220223T093535Z
UID:2319-1645884000-1645896600@gullivigne.org
SUMMARY:Atelier FabLab et dépannages
DESCRIPTION:
URL:https://gullivigne.org/event/atelier-fablab-et-depannages-3/
LOCATION:MiniHub\, 6 rue des Filatures\, Tabari Sud\,\, Clisson\, 44190\, France
CATEGORIES:Atelier
END:VEVENT
BEGIN:VEVENT
DTSTART;TZID=Europe/Paris:20220219T140000
DTEND;TZID=Europe/Paris:20220219T173000
DTSTAMP:20260421T190028
CREATED:20220203T155233Z
LAST-MODIFIED:20220203T155233Z
UID:2311-1645279200-1645291800@gullivigne.org
SUMMARY:Atelier FabLab et Dépannages
DESCRIPTION:
URL:https://gullivigne.org/event/atelier-fablab-et-depannages-2/
LOCATION:MiniHub\, 6 rue des Filatures\, Tabari Sud\,\, Clisson\, 44190\, France
CATEGORIES:Atelier,Permanences
END:VEVENT
BEGIN:VEVENT
DTSTART;TZID=Europe/Paris:20220212T140000
DTEND;TZID=Europe/Paris:20220212T173000
DTSTAMP:20260421T190028
CREATED:20220203T155108Z
LAST-MODIFIED:20220203T155108Z
UID:2309-1644674400-1644687000@gullivigne.org
SUMMARY:Atelier Formation & FabLab
DESCRIPTION:
URL:https://gullivigne.org/event/atelier-formation-fablab/
LOCATION:MiniHub\, 6 rue des Filatures\, Tabari Sud\,\, Clisson\, 44190\, France
CATEGORIES:Atelier,Formation à thème
END:VEVENT
BEGIN:VEVENT
DTSTART;TZID=Europe/Paris:20220205T140000
DTEND;TZID=Europe/Paris:20220205T173000
DTSTAMP:20260421T190028
CREATED:20220203T154940Z
LAST-MODIFIED:20220203T154940Z
UID:2307-1644069600-1644082200@gullivigne.org
SUMMARY:Atelier FabLab et Dépannages
DESCRIPTION:
URL:https://gullivigne.org/event/atelier-fablab-et-depannages/
LOCATION:MiniHub\, 6 rue des Filatures\, Tabari Sud\,\, Clisson\, 44190\, France
CATEGORIES:Atelier
END:VEVENT
BEGIN:VEVENT
DTSTART;TZID=Europe/Paris:20220122T140000
DTEND;TZID=Europe/Paris:20220122T173000
DTSTAMP:20260421T190028
CREATED:20220117T141735Z
LAST-MODIFIED:20220117T141735Z
UID:2289-1642860000-1642872600@gullivigne.org
SUMMARY:Atelier installation / dépannages
DESCRIPTION:
URL:https://gullivigne.org/event/atelier-installation-depannages/
LOCATION:MiniHub\, 6 rue des Filatures\, Tabari Sud\,\, Clisson\, 44190\, France
CATEGORIES:Atelier
END:VEVENT
BEGIN:VEVENT
DTSTART;TZID=Europe/Paris:20220108T140000
DTEND;TZID=Europe/Paris:20220108T173000
DTSTAMP:20260421T190028
CREATED:20211210T150812Z
LAST-MODIFIED:20211210T150812Z
UID:2223-1641650400-1641663000@gullivigne.org
SUMMARY:Atelier de reprise 2022
DESCRIPTION:
URL:https://gullivigne.org/event/atelier-de-reprise-2022/
LOCATION:MiniHub\, 6 rue des Filatures\, Tabari Sud\,\, Clisson\, 44190\, France
CATEGORIES:Atelier,Permanences
END:VEVENT
BEGIN:VEVENT
DTSTART;TZID=Europe/Paris:20211218T140000
DTEND;TZID=Europe/Paris:20211218T173000
DTSTAMP:20260421T190029
CREATED:20211210T150701Z
LAST-MODIFIED:20211210T150701Z
UID:2221-1639836000-1639848600@gullivigne.org
SUMMARY:Atelier fin d'année 2021
DESCRIPTION:Une dernière occasion pour venir vous faire dépanner / voir l’avancement du « FabLab » Gullivigne…;)
URL:https://gullivigne.org/event/atelier-fin-dannee-2021/
LOCATION:MiniHub\, 6 rue des Filatures\, Tabari Sud\,\, Clisson\, 44190\, France
CATEGORIES:Atelier,Permanences
END:VEVENT
BEGIN:VEVENT
DTSTART;TZID=Europe/Paris:20211211T140000
DTEND;TZID=Europe/Paris:20211211T173000
DTSTAMP:20260421T190029
CREATED:20211115T095829Z
LAST-MODIFIED:20211115T201858Z
UID:2150-1639231200-1639243800@gullivigne.org
SUMMARY:Atelier / Formation "Protection de la Vie Privée"
DESCRIPTION:Audric revient nous présenter / rappeler quelques principes de base et bonnes pratiques. \nComment faire pour se protéger au moins « un peu » des cookies et logiciels espions sur le Web. \nInscriptions sur ce Framadate svp.
URL:https://gullivigne.org/event/atelier-formation-protection-de-la-vie-privee/
LOCATION:MiniHub\, 6 rue des Filatures\, Tabari Sud\,\, Clisson\, 44190\, France
CATEGORIES:Atelier,Formation à thème
END:VEVENT
BEGIN:VEVENT
DTSTART;TZID=Europe/Paris:20211204T140000
DTEND;TZID=Europe/Paris:20211204T173000
DTSTAMP:20260421T190029
CREATED:20211115T094952Z
LAST-MODIFIED:20211115T094952Z
UID:2147-1638626400-1638639000@gullivigne.org
SUMMARY:Atelier Gullivigne
DESCRIPTION:Atelier de découverte et de dépannages – logiciels libres et FabLab
URL:https://gullivigne.org/event/atelier-gullivigne-2/
LOCATION:MiniHub\, 6 rue des Filatures\, Tabari Sud\,\, Clisson\, 44190\, France
CATEGORIES:Atelier,Permanences
END:VEVENT
BEGIN:VEVENT
DTSTART;TZID=Europe/Paris:20211127T140000
DTEND;TZID=Europe/Paris:20211127T173000
DTSTAMP:20260421T190029
CREATED:20211115T094604Z
LAST-MODIFIED:20211115T201742Z
UID:2145-1638021600-1638034200@gullivigne.org
SUMMARY:Formation "Démystification des ordinateurs" - Bis
DESCRIPTION:Suite à la demande forte et la réussite du premier atelier sur ce thème fin octobre\, Steven nous propose une deuxième séance ..;) \nInscriptions sur ce Framadate svp.
URL:https://gullivigne.org/event/formation-demystification-des-ordinateurs-bis/
LOCATION:MiniHub\, 6 rue des Filatures\, Tabari Sud\,\, Clisson\, 44190\, France
CATEGORIES:Atelier,Formation à thème
END:VEVENT
BEGIN:VEVENT
DTSTART;TZID=Europe/Paris:20211120T140000
DTEND;TZID=Europe/Paris:20211120T173000
DTSTAMP:20260421T190029
CREATED:20211115T094111Z
LAST-MODIFIED:20211115T171544Z
UID:2143-1637416800-1637429400@gullivigne.org
SUMMARY:Atelier Gullivigne
DESCRIPTION:Atelier de découverte et de dépannages – logiciels libres et FabLab
URL:https://gullivigne.org/event/atelier-guillivgne/
LOCATION:MiniHub\, 6 rue des Filatures\, Tabari Sud\,\, Clisson\, 44190\, France
CATEGORIES:Atelier,Permanences
END:VEVENT
BEGIN:VEVENT
DTSTART;TZID=Europe/Paris:20211106T140000
DTEND;TZID=Europe/Paris:20211106T173000
DTSTAMP:20260421T190029
CREATED:20211115T092647Z
LAST-MODIFIED:20211115T092647Z
UID:2132-1636207200-1636219800@gullivigne.org
SUMMARY:Atelier Gullivigne
DESCRIPTION:Atelier de découverte et de dépannages – logiciels libres et FabLab
URL:https://gullivigne.org/event/atelier-gullivigne/
LOCATION:MiniHub\, 6 rue des Filatures\, Tabari Sud\,\, Clisson\, 44190\, France
CATEGORIES:Atelier
END:VEVENT
END:VCALENDAR